BEGIN:VCALENDAR
VERSION:2.0
PRODID:Events Booking
BEGIN:VEVENT
UID:69ecfcee57e97
SUMMARY:Zondag 16 maart gezellige lunch voor mensen met NAH en partners.
DESCRIPTION:‍Lunch zondag 16 maart
 &nbsp\;
 Lunch is volgeboekt\, aanm
 elden niet meer mogelijk.
 &nbsp\;
 Zondag 16 maart hebben wij een lunch
  voor mensen met NAH\, partners zijn natuurlijk ook van harte welkom.
 &n
 bsp\;
 Je hoeft geen lid te zijn van NAH Ontmoetingspunt Almere.
 Deze l
 unch wordt je aangeboden in samenwerking met het Oranjefonds.
 &nbsp\;
 
 Er is een ruime keuze uit diverse baquette's\, je kan vooraf je keuze make
 n\, soep met stokbrood\, toetje en drankjes.
 &nbsp\;
 Inloop 13.00\, ko
 m op tijd\, lunch begint om 13.30 uur.
 Gelieve niet voor 13.00 te komen.
 
 Eigen bijdrage € 3.00\, je kan je tot en met 16 maart aanmelden of an
 nuleren.
 Aanmelden en vooruit betalen verplicht.
 &nbsp\;
 &nbsp\;
 L
 ocatie:
 Buurtcentrum Parkwijk
 Haagbeukweg 42
 1326 CP Almere
 &nbsp\
 ;
 
LOCATION:Haagbeukweg\, Almere\, 1326CP Flevoland\, Nederland
DTSTART:20250316T133000Z
DTEND:20250316T153000Z
DTSTAMP:20250120T111641Z
ORGANIZER;CN=NAHontmoetingspunt:MAILTO:info@nahontmoetingspuntalmere.nl
GEO:52.375126;5.243308
X-APPLE-STRUCTURED-LOCATION;VALUE=URI;X-ADDRESS=Haagbeukweg\, Almere\, 1326
 CP Flevoland\, Nederland;X-APPLE-RADIUS=72;X-TITLE=Buurtcentrum Parkwijk:5
 2.375126;5.243308
END:VEVENT
END:VCALENDAR